BEGIN:VCALENDAR
VERSION:2.0
PRODID:-//Mars 1982 Ltd - ECPv6.7.0//NONSGML v1.0//EN
CALSCALE:GREGORIAN
METHOD:PUBLISH
X-ORIGINAL-URL:https://mars1982.co.uk
X-WR-CALDESC:Events for Mars 1982 Ltd
REFRESH-INTERVAL;VALUE=DURATION:PT1H
X-Robots-Tag:noindex
X-PUBLISHED-TTL:PT1H
BEGIN:VTIMEZONE
TZID:Europe/London
BEGIN:DAYLIGHT
TZOFFSETFROM:+0000
TZOFFSETTO:+0100
TZNAME:BST
DTSTART:20220327T010000
END:DAYLIGHT
BEGIN:STANDARD
TZOFFSETFROM:+0100
TZOFFSETTO:+0000
TZNAME:GMT
DTSTART:20221030T010000
END:STANDARD
END:VTIMEZONE
BEGIN:VEVENT
DTSTART;TZID=Europe/London:20220903T193000
DTEND;TZID=Europe/London:20220903T233000
DTSTAMP:20260420T234756
CREATED:20220520T192656Z
LAST-MODIFIED:20220709T175126Z
UID:1442-1662233400-1662247800@mars1982.co.uk
SUMMARY:Martex-verse NFT's Aperitif at the CHAPEL ORSINI STUDY CENTER
DESCRIPTION:Opening to the strategic digital market for gaming\, cinema\, music ranging from marketing to social networks\, nfts\, crypto and blockchain. \nFace-to-face meetings to create new synergies and ideas on new markets \nBUY 30 Mars1982 coin (MARTEX) for 25€ and you will get one free drink! 						\n				\n					\n		\n					\n		\n				\n						\n					\n			\n						\n				\n			Buy now for 25€
URL:https://mars1982.co.uk/event/martex-verse-nft-aperitif-chapel-orsini-rome/
LOCATION:CHAPEL ORSINI STUDY CENTER\, Via di Grotta Pinta\, 21\, Rome\, 00186\, Italy
CATEGORIES:Aperitif
ORGANIZER;CN="Mars 1982 Ltd and Roberto Lucifero":MAILTO:martex@mars1982.co.uk
END:VEVENT
END:VCALENDAR